BEGIN:VCALENDAR
VERSION:2.0
X-WR-CALNAME:www.indybay.org
PRODID:-//indybay/ical// v1.0//EN
BEGIN:VEVENT
UID:Indybay-101463
SEQUENCE:101463
CREATED:20060515T031200Z
DESCRIPTION:Yvonne Cobbs-Bey, Oakland's own shining star in gospel music, launches her 
 independent record label Bey-Daz'l Records, and celebrates the release of 
 her second CD Stand Still.       Yvonne's new project arrives on the heels 
 of her 2005 gospel CD release "God's Always    There." Stand Still is a 
 harmonious blend of traditional and contemporary gospel melodies with 
 soulful appeal.  On this affecting compilation, Yvonne shares her special 
 anointing and raises her voice of praise and worship unto God.  The 
 multi-talented soloist and founder of Bey-Daz'l Records wrote, composed and 
 produced Stand Still. Minister Roland Pollard contributed his masterful 
 talents to co-produce, perform all instruments, record, mix, and master at 
 Jasmine Recording Studios.       Blessed vocalist Yvonne Cobbs-Bey invites 
 you to join her for the launch and Godly celebration of her new CD Stand 
 Still while praying, praising and worshipping through song and dance at 
 7:30 pm Saturday, June 24, 2006 at Harmony Missionary Baptist Church in 
 Oakland, where A.L. Cobbs, Sr. is pastor.  Please visit 
 http://www.yvonnecobbsbey.com to learn more about Yvonne Cobbs-Bey and to 
 hear tracks from her previously released CD "God's Always There."  \n 
 https://www.indybay.org/newsitems/2006/05/14/101463.php
SUMMARY:Yvonne Cobbs-Bey Releases Sophomore CD "Stand Still"
LOCATION:Harmony Missionary Baptist Church 4113 Telegraph, (Cross 41st Street) N. 
 Oakland, CA 94609
URL:https://www.indybay.org/newsitems/2006/05/14/101463.php
DTSTART:20060625T023000Z
DTEND:20060625T043000Z
END:VEVENT
END:VCALENDAR
