BEGIN:VCALENDAR
VERSION:2.0
X-WR-CALNAME:www.indybay.org
PRODID:-//indybay/ical// v1.0//EN
BEGIN:VEVENT
UID:Indybay-101133
SEQUENCE:101133
CREATED:20060512T165200Z
DESCRIPTION:Weplayers stages Shakespeare's Tempest under the wild sky of The Albany 
 Bulb, with a processional audience, stilt walkers, dancers, muscians and an 
 ending banquet to bring celebration and attention to the community space.  
 The Bulb is a contested political space theatened by gentrification and 
 realtors.  We hope to bring awareness to its beauty and diversity in its 
 present capacity.  Wear close-toed shoes and prepare to walk.  Free and 
 open to the public.  \n 
 https://www.indybay.org/newsitems/2006/05/12/101133.php
SUMMARY:The Tempest
LOCATION:Staged at the Albany Bulb, a liberated artistic community space, at the end 
 of Buchanan Street off the 1-80 on the water. Adjacent to the Racetrack.  
 Albany, California 94710
URL:https://www.indybay.org/newsitems/2006/05/12/101133.php
DTSTART:20060520T230000Z
DTEND:20060521T120000Z
END:VEVENT
END:VCALENDAR
