BEGIN:VCALENDAR
VERSION:2.0
X-WR-CALNAME:www.indybay.org
PRODID:-//indybay/ical// v1.0//EN
BEGIN:VEVENT
UID:Indybay-100773
SEQUENCE:100773
CREATED:20060510T203200Z
DESCRIPTION:Thursday, May 25, 7:00 pm: Cine Latino: Film TBA  (Spanish with English 
 subtitles)  $2-$5 Donation\n 
 https://www.indybay.org/newsitems/2006/05/10/100773.php
SUMMARY:Cine Latino
LOCATION:99 6th St., Santa Rosa (6th and Wilson in Rail Road Square)
URL:https://www.indybay.org/newsitems/2006/05/10/100773.php
DTSTART:20060526T020000Z
DTEND:20060526T040000Z
END:VEVENT
END:VCALENDAR
