BEGIN:VCALENDAR
VERSION:2.0
X-WR-CALNAME:www.indybay.org
PRODID:-//indybay/ical// v1.0//EN
BEGIN:VEVENT
UID:Indybay-100653
SEQUENCE:100653
CREATED:20060510T051300Z
DESCRIPTION:Save the Date: May 11, SF: Life or death for Mumia?  Life or Death for 
 Mumia?  On Thursday May 11th there will be a Public Forum sponsored by the 
 Mobilization to Free Mumia Abu-Jamal  at the Socialist Action Bookstore 
 located at 298 Valencia Street (Valencia and 14th Sts.) at 7:30 PM  
 Speakers will include Pam Africa, Coordinator of the International 
 Concerned Family and Friends of Mumia Abu-Jamal  Michael Schifferman, 
 Founder of Germany's Mumia Abu-Jamal solidarity movement. Michael's Ph.D. 
 thesis on the case is one of the most exhaustive studies yet undertaken, it 
 is the basis of his forthcoming book on the case.  Robert R. Bryan, lead 
 counsel for Mumia's Habeus Appeal, will give an up-to-the-minute report 
 reviewing the State of Pennsylvania's recently filed brief before the U.S. 
 Court of Appeals  Also speaking will be Jeff Mackler and Laura Herrera, 
 Co-coordinators of the Mobilization to Free Mumia Abu-Jamal  Also, please 
 note that the next meeting of the San Francisco Chapter of the Peace and 
 Freedom Party will be on Wednesday, May 17th, 6:30 pm in the lower level of 
 the main SF Public Library, Larkin and Grove Streets. - Tom Lacey, 
 Secretary for the SF Peace and Freedom Party\n 
 https://www.indybay.org/newsitems/2006/05/09/100653.php
SUMMARY:Life or death for Mumia?
LOCATION:Socialist Action Bookstore located at 298 Valencia Street (Valencia and 
 14th Sts.)  
URL:https://www.indybay.org/newsitems/2006/05/09/100653.php
DTSTART:20060512T023000Z
DTEND:20060512T043000Z
END:VEVENT
END:VCALENDAR
