BEGIN:VCALENDAR
VERSION:2.0
X-WR-CALNAME:www.indybay.org
PRODID:-//indybay/ical// v1.0//EN
BEGIN:VEVENT
UID:Indybay-100293
SEQUENCE:100293
CREATED:20060510T223000Z
DESCRIPTION:The Right Wing Group BattleCry returns to SF City Hall Steps to continue a 
 nation-wide attack on our freedoms, including gay rights, reproductive 
 rights, freedom from militarism, freedom from theocracy and the separation 
 of Church and State.  This protest is supported by The World Can't Wait, 
 Not in our Name, Code Pink and BACORR.\n 
 https://www.indybay.org/newsitems/2006/05/10/100293.php
SUMMARY:Protest against the return of BattleCry
LOCATION:
URL:https://www.indybay.org/newsitems/2006/05/10/100293.php
DTSTART:20060512T210000Z
DTEND:20060513T000000Z
END:VEVENT
END:VCALENDAR
