BEGIN:VCALENDAR
VERSION:2.0
X-WR-CALNAME:www.indybay.org
PRODID:-//indybay/ical// v1.0//EN
BEGIN:VEVENT
UID:Indybay-100113
SEQUENCE:100113
CREATED:20060507T195600Z
DESCRIPTION:May 7, 2006  News release					  For more information:   Call Ellen 
 Schwartz, (916) 799-1354  P.O. Box 160406  Sacramento, CA 95816      May 18 
 Talk on the Solidarity Movement in Poland  Urszula Wislanka, an activist 
 and author, will give a talk “On the 25th Anniversary of Poland's 
 Solidarity movement” Thurs., May 18 at 7 p.m. in the Green Room of the 
 Sierra 2 Center, 2791 24th St., Sac.    She will focus on the working 
 people who energized Solidarity.  Wislanka is based in the Bay Area.   The 
 Marxist School of Sacramento is the sponsor of her free talk.  Phone (916) 
 799-1354.                              ###  \n 
 https://www.indybay.org/newsitems/2006/05/07/100113.php
SUMMARY:May 18 Talk on the Solidarity Movement in Poland
LOCATION:Green Room of the Sierra 2 Center, 2791 24th St., Sac.
URL:https://www.indybay.org/newsitems/2006/05/07/100113.php
DTSTART:20060519T020000Z
DTEND:20060519T040000Z
END:VEVENT
END:VCALENDAR
